BEGIN:VCALENDAR
VERSION:2.0
PRODID:-//eventon.com NONSGML v1.0//EN
BEGIN:VEVENT
UID:69e64aac7bc68
DTSTAMP:20260420T154756
DTSTART:20260321T140000Z
DTEND:20260321T235000Z
LOCATION:Allgemeine Förderschule Otto Buchwitz (Eisenhüttenstadt) An der Schleuse 4\,  15890 Eisenhüttenstadt
SUMMARY:TTV Eisenhüttenstadt III vs. BSG Pneumant Fürstenwalde III
DESCRIPTION: TTV Eisenhüttenstadt III vs. BSG Pneumant Fürstenwalde III
END:VEVENT
END:VCALENDAR