BEGIN:VCALENDAR
VERSION:2.0
PRODID:-//eventon.com NONSGML v1.0//EN
BEGIN:VEVENT
UID:69e64f0186001
DTSTAMP:20260420T160625
DTSTART:20260221T100000Z
DTEND:20260221T235000Z
LOCATION:Sporthalle der BSG Pneumant Siegfried-Hirschmann Straße 5\,  15517 Fürstenwalde
SUMMARY:BSG Pneumant Fürstenwalde III vs. TTC Frankfurt (Oder) III
DESCRIPTION: BSG Pneumant Fürstenwalde III vs. TTC Frankfurt (Oder) III
END:VEVENT
END:VCALENDAR