BEGIN:VCALENDAR
VERSION:2.0
PRODID:-//eventon.com NONSGML v1.0//EN
BEGIN:VEVENT
UID:69e6650833c24
DTSTAMP:20260420T174024
DTSTART:20260213T190000Z
DTEND:20260213T235000Z
LOCATION:Landsporthalle (Marxdorf) Dorfstraße 39a\,  15306 Vierlinden
SUMMARY:SG Marxdorf III vs. BSG Pneumant Fürstenwalde III
DESCRIPTION: SG Marxdorf III vs. BSG Pneumant Fürstenwalde III
END:VEVENT
END:VCALENDAR