BEGIN:VCALENDAR
VERSION:2.0
PRODID:-//eventon.com NONSGML v1.0//EN
BEGIN:VEVENT
UID:69e6520a84a39
DTSTAMP:20260420T161922
DTSTART:20260207T140000Z
DTEND:20260207T235000Z
LOCATION:Sporthalle der BSG Pneumant Siegfried-Hirschmann Straße 5\,  15517 Fürstenwalde
SUMMARY:BSG Pneumant Fürstenwalde IV vs. BSG Pneumant Fürstenwalde III
DESCRIPTION: BSG Pneumant Fürstenwalde IV vs. BSG Pneumant Fürstenwalde III
END:VEVENT
END:VCALENDAR