BEGIN:VCALENDAR
VERSION:2.0
PRODID:-//eventon.com NONSGML v1.0//EN
BEGIN:VEVENT
UID:69e63bc3d3952
DTSTAMP:20260420T144419
DTSTART:20260131T100000Z
DTEND:20260131T235000Z
LOCATION:Sporthalle der BSG Pneumant Siegfried-Hirschmann Straße 5\,  15517 Fürstenwalde
SUMMARY:BSG Pneumant Fürstenwalde III vs. TTC Frankfurt (Oder) IV
DESCRIPTION: BSG Pneumant Fürstenwalde III vs. TTC Frankfurt (Oder) IV
END:VEVENT
END:VCALENDAR