BEGIN:VCALENDAR
VERSION:2.0
PRODID:-//eventon.com NONSGML v1.0//EN
BEGIN:VEVENT
UID:69e6114bc76d3
DTSTAMP:20260420T114307
DTSTART:20260425T140000Z
DTEND:20260425T235000Z
LOCATION:Sporthalle der BSG Pneumant Siegfried-Hirschmann Straße 5\,  15517 Fürstenwalde
SUMMARY:BSG Pneumant Fürstenwalde II vs. SG Rot-Weiß Bralitz
DESCRIPTION: BSG Pneumant Fürstenwalde II vs. SG Rot-Weiß Bralitz
END:VEVENT
END:VCALENDAR