BEGIN:VCALENDAR
VERSION:2.0
PRODID:-//eventon.com NONSGML v1.0//EN
BEGIN:VEVENT
UID:69e611c8df450
DTSTAMP:20260420T114512
DTSTART:20260418T140000Z
DTEND:20260418T235000Z
LOCATION:Sporthalle der BSG Pneumant Siegfried-Hirschmann Straße 5\,  15517 Fürstenwalde
SUMMARY:BSG Pneumant Fürstenwalde II vs. SV Rot-Weiß Werneuchen
DESCRIPTION: BSG Pneumant Fürstenwalde II vs. SV Rot-Weiß Werneuchen
END:VEVENT
END:VCALENDAR