BEGIN:VCALENDAR
VERSION:2.0
PRODID:-//eventon.com NONSGML v1.0//EN
BEGIN:VEVENT
UID:69e61170e6595
DTSTAMP:20260420T114344
DTSTART:20260411T140000Z
DTEND:20260411T235000Z
LOCATION:Sporthalle der BSG Pneumant Siegfried-Hirschmann Straße 5\,  15517 Fürstenwalde
SUMMARY:BSG Pneumant Fürstenwalde II vs. FSV Wriezen
DESCRIPTION: BSG Pneumant Fürstenwalde II vs. FSV Wriezen
END:VEVENT
END:VCALENDAR