BEGIN:VCALENDAR
VERSION:2.0
PRODID:-//eventon.com NONSGML v1.0//EN
BEGIN:VEVENT
UID:69e637e5099a8
DTSTAMP:20260420T142749
DTSTART:20260321T140000Z
DTEND:20260321T235000Z
LOCATION:Sporthalle der BSG Pneumant Siegfried-Hirschmann Straße 5\,  15517 Fürstenwalde
SUMMARY:BSG Pneumant Fürstenwalde II vs. SG Blau-Weiß Eggersdorf
DESCRIPTION: BSG Pneumant Fürstenwalde II vs. SG Blau-Weiß Eggersdorf
END:VEVENT
END:VCALENDAR