BEGIN:VCALENDAR
VERSION:2.0
PRODID:-//eventon.com NONSGML v1.0//EN
BEGIN:VEVENT
UID:69e64f64ceac6
DTSTAMP:20260420T160804
DTSTART:20260221T140000Z
DTEND:20260221T235000Z
LOCATION:Sporthalle der BSG Pneumant Siegfried-Hirschmann Straße 5\,  15517 Fürstenwalde
SUMMARY:BSG Pneumant Fürstenwalde II vs. SG Marxdorf II
DESCRIPTION: BSG Pneumant Fürstenwalde II vs. SG Marxdorf II
END:VEVENT
END:VCALENDAR