BEGIN:VCALENDAR
VERSION:2.0
PRODID:-//eventon.com NONSGML v1.0//EN
BEGIN:VEVENT
UID:69e668a81771f
DTSTAMP:20260420T175552
DTSTART:20260214T140000Z
DTEND:20260214T235000Z
LOCATION:Allgemeine Förderschule Otto Buchwitz (Eisenhüttenstadt) An der Schleuse 4\,  15890 Eisenhüttenstadt
SUMMARY:TTV Eisenhüttenstadt II vs. BSG Pneumant Fürstenwalde II
DESCRIPTION: TTV Eisenhüttenstadt II vs. BSG Pneumant Fürstenwalde II
END:VEVENT
END:VCALENDAR