BEGIN:VCALENDAR
VERSION:2.0
PRODID:-//eventon.com NONSGML v1.0//EN
BEGIN:VEVENT
UID:69e63b46ab64c
DTSTAMP:20260420T144214
DTSTART:20260131T140000Z
DTEND:20260131T235000Z
LOCATION:Sporthalle der BSG Pneumant Siegfried-Hirschmann Straße 5\,  15517 Fürstenwalde
SUMMARY:BSG Pneumant Fürstenwalde II vs. TTV Top Spin Bernau II
DESCRIPTION: BSG Pneumant Fürstenwalde II vs. TTV Top Spin Bernau II
END:VEVENT
END:VCALENDAR