BEGIN:VCALENDAR
VERSION:2.0
PRODID:-//eventon.com NONSGML v1.0//EN
BEGIN:VEVENT
UID:69e610f3f030a
DTSTAMP:20260420T114139
DTSTART:20260426T110000Z
DTEND:20260426T235000Z
LOCATION:Sporthalle der BSG Pneumant Siegfried-Hirschmann Straße 5\,  15517 Fürstenwalde
SUMMARY:BSG Pneumant Fürstenwalde I vs TTC Rotation Leegebruch
DESCRIPTION: BSG Pneumant Fürstenwalde I vs TTC Rotation Leegebruch
END:VEVENT
END:VCALENDAR