BEGIN:VCALENDAR
VERSION:2.0
PRODID:-//eventon.com NONSGML v1.0//EN
BEGIN:VEVENT
UID:69e6108704bc2
DTSTAMP:20260420T113951
DTSTART:20260419T110000Z
DTEND:20260419T235000Z
LOCATION:Sporthalle der BSG Pneumant Siegfried-Hirschmann Straße 5\,  15517 Fürstenwalde
SUMMARY:BSG Pneumant Fürstenwalde I vs. TTV Top Spin Bernau
DESCRIPTION: BSG Pneumant Fürstenwalde I vs. TTV Top Spin Bernau
END:VEVENT
END:VCALENDAR