BEGIN:VCALENDAR
VERSION:2.0
PRODID:-//eventon.com NONSGML v1.0//EN
BEGIN:VEVENT
UID:69e6119981766
DTSTAMP:20260420T114425
DTSTART:20260412T110000Z
DTEND:20260412T235000Z
LOCATION:Sporthalle der BSG Pneumant Siegfried-Hirschmann Straße 5\,  15517 Fürstenwalde
SUMMARY:BSG Pneumant Fürstenwalde I vs. Motor Hennigsdorf
DESCRIPTION: BSG Pneumant Fürstenwalde I vs. Motor Hennigsdorf
END:VEVENT
END:VCALENDAR