BEGIN:VCALENDAR
VERSION:2.0
PRODID:-//eventon.com NONSGML v1.0//EN
BEGIN:VEVENT
UID:69e63a8256663
DTSTAMP:20260420T143858
DTSTART:20260321T100000Z
DTEND:20260321T235000Z
LOCATION:
SUMMARY:BSG Pneumant Fürstenwalde I vs. TT-Freunde Bötzow
DESCRIPTION: BSG Pneumant Fürstenwalde I vs. TT-Freunde Bötzow
END:VEVENT
END:VCALENDAR