BEGIN:VCALENDAR
VERSION:2.0
PRODID:-//eventon.com NONSGML v1.0//EN
BEGIN:VEVENT
UID:69e6520a88df1
DTSTAMP:20260420T161922
DTSTART:20260221T100000Z
DTEND:20260221T235000Z
LOCATION:Sporthalle der BSG Pneumant Siegfried-Hirschmann Straße 5\,  15517 Fürstenwalde
SUMMARY:BSG Pneumant Fürstenwalde vs. SV Woltersdorf
DESCRIPTION: BSG Pneumant Fürstenwalde vs. SV Woltersdorf
END:VEVENT
END:VCALENDAR