BEGIN:VCALENDAR
VERSION:2.0
PRODID:-//eventon.com NONSGML v1.0//EN
BEGIN:VEVENT
UID:69e669a62f1c0
DTSTAMP:20260420T180006
DTSTART:20260215T140000Z
DTEND:20260215T235000Z
LOCATION:Sporthalle Grundschule (Eberswalde) Bahnhofstraße\,  16227 Eberswalde
SUMMARY:TTC Finow Eberswalde III vs. BSG Pneumant Fürstenwalde I
DESCRIPTION: TTC Finow Eberswalde III vs. BSG Pneumant Fürstenwalde I
END:VEVENT
END:VCALENDAR