BEGIN:VCALENDAR
VERSION:2.0
PRODID:-//eventon.com NONSGML v1.0//EN
BEGIN:VEVENT
UID:69e6813832901
DTSTAMP:20260420T194040
DTSTART:20260207T100000Z
DTEND:20260207T235000Z
LOCATION:Sporthalle der BSG Pneumant Siegfried-Hirschmann Straße 5\,  15517 Fürstenwalde
SUMMARY:BSG Pneumant Fürstenwalde vs. TTC Frankfurt (Oder)
DESCRIPTION: BSG Pneumant Fürstenwalde vs. TTC Frankfurt (Oder)
END:VEVENT
END:VCALENDAR