BEGIN:VCALENDAR
VERSION:2.0
PRODID:-//eventon.com NONSGML v1.0//EN
BEGIN:VEVENT
UID:69e698bedf3bb
DTSTAMP:20260420T212102
DTSTART:19470124T000000Z
DTEND:19470124T235900Z
LOCATION:
SUMMARY:Peter Haak (Geburtstag)
DESCRIPTION: 1947
END:VEVENT
END:VCALENDAR