BEGIN:VCALENDAR
VERSION:2.0
PRODID:-//eventon.com NONSGML v1.0//EN
BEGIN:VEVENT
UID:69e6b0f1eec13
DTSTAMP:20260420T230417
DTSTART:19601001T000000Z
DTEND:19601001T235900Z
LOCATION:
SUMMARY:Frank Rüdinger (Geburtstag)
DESCRIPTION: 1960
END:VEVENT
END:VCALENDAR