BEGIN:VCALENDAR
VERSION:2.0
PRODID:-//eventon.com NONSGML v1.0//EN
BEGIN:VEVENT
UID:69e6c737a562b
DTSTAMP:20260421T003919
DTSTART:19620314T000000Z
DTEND:19620314T235900Z
LOCATION:
SUMMARY:Burghard Holtz (Geburtstag)
DESCRIPTION: 1962
END:VEVENT
END:VCALENDAR