BEGIN:VCALENDAR
VERSION:2.0
PRODID:-//eventon.com NONSGML v1.0//EN
BEGIN:VEVENT
UID:69e6e3be304ac
DTSTAMP:20260421T024102
DTSTART:19760311T000000Z
DTEND:19760311T235900Z
LOCATION:
SUMMARY:Sascha Sarnow (Geburtstag)
DESCRIPTION: 1976
END:VEVENT
END:VCALENDAR