BEGIN:VCALENDAR
VERSION:2.0
PRODID:-//eventon.com NONSGML v1.0//EN
BEGIN:VEVENT
UID:69e6f9e97a094
DTSTAMP:20260421T041537
DTSTART:19651217T000000Z
DTEND:19651217T235900Z
LOCATION:
SUMMARY:Heike Thiem (Geburtstag)
DESCRIPTION: 1965
END:VEVENT
END:VCALENDAR