BEGIN:VCALENDAR
VERSION:2.0
PRODID:-//eventon.com NONSGML v1.0//EN
BEGIN:VEVENT
UID:69e723314ead4
DTSTAMP:20260421T071145
DTSTART:19790816T000000Z
DTEND:19790816T235900Z
LOCATION:
SUMMARY:Maik Frieske (Geburtstag)
DESCRIPTION: 1979
END:VEVENT
END:VCALENDAR