BEGIN:VCALENDAR
VERSION:2.0
PRODID:-//eventon.com NONSGML v1.0//EN
BEGIN:VEVENT
UID:69e72d9362b7c
DTSTAMP:20260421T075603
DTSTART:19791212T000000Z
DTEND:19791212T235900Z
LOCATION:
SUMMARY:Nico Bauermeister (Geburtstag)
DESCRIPTION: 1979
END:VEVENT
END:VCALENDAR