BEGIN:VCALENDAR
VERSION:2.0
PRODID:-//eventon.com NONSGML v1.0//EN
BEGIN:VEVENT
UID:69e744cabf602
DTSTAMP:20260421T093506
DTSTART:19800119T000000Z
DTEND:19800119T235900Z
LOCATION:
SUMMARY:Knut Bublitz (Geburtstag)
DESCRIPTION: 1980
END:VEVENT
END:VCALENDAR