BEGIN:VCALENDAR
VERSION:2.0
PRODID:-//eventon.com NONSGML v1.0//EN
BEGIN:VEVENT
UID:69e76ef1a091f
DTSTAMP:20260421T123457
DTSTART:19950123T000000Z
DTEND:19950123T235900Z
LOCATION:
SUMMARY:Felix Rebsch (Geburtstag)
DESCRIPTION: 1995
END:VEVENT
END:VCALENDAR