BEGIN:VCALENDAR
VERSION:2.0
PRODID:-//eventon.com NONSGML v1.0//EN
BEGIN:VEVENT
UID:69e76f7a2e805
DTSTAMP:20260421T123714
DTSTART:19730504T000000Z
DTEND:19730504T235900Z
LOCATION:
SUMMARY:Sven Sonnenburg (Geburtstag)
DESCRIPTION: 1973
END:VEVENT
END:VCALENDAR