BEGIN:VCALENDAR
VERSION:2.0
PRODID:-//eventon.com NONSGML v1.0//EN
BEGIN:VEVENT
UID:69e78219ad523
DTSTAMP:20260421T135641
DTSTART:20251206T100000Z
DTEND:20251206T235000Z
LOCATION:Allgemeine Förderschule Otto Buchwitz (Eisenhüttenstadt) An der Schleuse 4\,  15890 Eisenhüttenstadt
SUMMARY:TTV Eisenhüttenstadt II vs. BSG Pneumant Fürstenwalde (Nachwuchs)
DESCRIPTION: TTV Eisenhüttenstadt II vs. BSG Pneumant Fürstenwalde (Nachwuchs)
END:VEVENT
END:VCALENDAR