BEGIN:VCALENDAR
VERSION:2.0
PRODID:-//eventon.com NONSGML v1.0//EN
BEGIN:VEVENT
UID:69e799bd44f9e
DTSTAMP:20260421T153733
DTSTART:20251125T173000Z
DTEND:20251125T235000Z
LOCATION:Sporthalle der BSG Pneumant Siegfried-Hirschmann Straße 5\,  15517 Fürstenwalde
SUMMARY:BSG Pneumant Fürstenwalde (Nachwuchs) vs. TTV Strausberg
DESCRIPTION: BSG Pneumant Fürstenwalde (Nachwuchs) vs. TTV Strausberg
END:VEVENT
END:VCALENDAR