BEGIN:VCALENDAR
VERSION:2.0
PRODID:-//eventon.com NONSGML v1.0//EN
BEGIN:VEVENT
UID:69e7c8f5c397f
DTSTAMP:20260421T185901
DTSTART:20251121T173000Z
DTEND:20251121T235000Z
LOCATION:Sporthalle Woltersdorf Hochlandstraße 11A\,  15569 Woltersdorf
SUMMARY:SV Woltersdorf vs. BSG Pneumant Fürstenwalde (Nachwuchs)
DESCRIPTION: SV Woltersdorf vs. BSG Pneumant Fürstenwalde (Nachwuchs)
END:VEVENT
END:VCALENDAR