BEGIN:VCALENDAR
VERSION:2.0
PRODID:-//eventon.com NONSGML v1.0//EN
BEGIN:VEVENT
UID:69e7c8c82c3e4
DTSTAMP:20260421T185816
DTSTART:20251111T173000Z
DTEND:20251111T235000Z
LOCATION:Sporthalle der BSG Pneumant Siegfried-Hirschmann Straße 5\,  15517 Fürstenwalde
SUMMARY:BSG Pneumant Fürstenwalde (Nachwuchs) vs. SV Victoria Seelow III
DESCRIPTION: BSG Pneumant Fürstenwalde (Nachwuchs) vs. SV Victoria Seelow III
END:VEVENT
END:VCALENDAR