BEGIN:VCALENDAR
VERSION:2.0
PRODID:-//eventon.com NONSGML v1.0//EN
BEGIN:VEVENT
UID:69e7dc58184c5
DTSTAMP:20260421T202144
DTSTART:20250927T140000Z
DTEND:20250927T235000Z
LOCATION:SG Zechin\,  Gemeindezentrum (ehem. Schule) an der Feuerwehr Schulstraße\,  15328 Zechin
SUMMARY:SG Zechin vs. BSG Pneumant Fürstenwalde (Nachwuchs)
DESCRIPTION: SG Zechin vs. BSG Pneumant Fürstenwalde (Nachwuchs)
END:VEVENT
END:VCALENDAR