BEGIN:VCALENDAR
VERSION:2.0
PRODID:-//eventon.com NONSGML v1.0//EN
BEGIN:VEVENT
UID:69e7f4b737ec6
DTSTAMP:20260421T220543
DTSTART:20251216T193000Z
DTEND:20251216T235000Z
LOCATION:Sporthalle der BSG Pneumant Siegfried-Hirschmann Straße 5\,  15517 Fürstenwalde
SUMMARY:BSG Pneumant Fürstenwalde IX vs. SG Gaselan Fürstenwalde III
DESCRIPTION: BSG Pneumant Fürstenwalde IX vs. SG Gaselan Fürstenwalde III
END:VEVENT
END:VCALENDAR