BEGIN:VCALENDAR
VERSION:2.0
PRODID:-//eventon.com NONSGML v1.0//EN
BEGIN:VEVENT
UID:69e821ec91769
DTSTAMP:20260422T011836
DTSTART:20251208T190000Z
DTEND:20251208T235000Z
LOCATION:TT-Halle des TTV Hartmannsdorf Winkel 8\,  15528 Spreenhagen OT Hartmannsdorf
SUMMARY:TTV Hartmannsdorf III vs. BSG Pneumant Fürstenwalde IX
DESCRIPTION: TTV Hartmannsdorf III vs. BSG Pneumant Fürstenwalde IX
END:VEVENT
END:VCALENDAR