BEGIN:VCALENDAR
VERSION:2.0
PRODID:-//eventon.com NONSGML v1.0//EN
BEGIN:VEVENT
UID:69e82463ee383
DTSTAMP:20260422T012907
DTSTART:20251125T200000Z
DTEND:20251125T235000Z
LOCATION:Stadthalle Erkner Julius-Rütgers-Straße 4\,  15537 Erkner
SUMMARY:SG Chemie Erkner VI vs. BSG Pneumant Fürstenwalde IX
DESCRIPTION: SG Chemie Erkner VI vs. BSG Pneumant Fürstenwalde IX
END:VEVENT
END:VCALENDAR