BEGIN:VCALENDAR
VERSION:2.0
PRODID:-//eventon.com NONSGML v1.0//EN
BEGIN:VEVENT
UID:69e854758df4f
DTSTAMP:20260422T045413
DTSTART:20251117T191500Z
DTEND:20251117T235000Z
LOCATION:
SUMMARY:Grünheider SV I vs. BSG Pneumant Fürstenwalde IX
DESCRIPTION: Grünheider SV I vs. BSG Pneumant Fürstenwalde IX
END:VEVENT
END:VCALENDAR