BEGIN:VCALENDAR
VERSION:2.0
PRODID:-//eventon.com NONSGML v1.0//EN
BEGIN:VEVENT
UID:69e8597e2706f
DTSTAMP:20260422T051542
DTSTART:20251111T193000Z
DTEND:20251111T235000Z
LOCATION:Sporthalle der BSG Pneumant Siegfried-Hirschmann Straße 5\,  15517 Fürstenwalde
SUMMARY:BSG Pneumant Fürstenwalde IX vs. TTC Jacobsdorf II
DESCRIPTION: BSG Pneumant Fürstenwalde IX vs. TTC Jacobsdorf II
END:VEVENT
END:VCALENDAR