BEGIN:VCALENDAR
VERSION:2.0
PRODID:-//eventon.com NONSGML v1.0//EN
BEGIN:VEVENT
UID:69e872274a8a1
DTSTAMP:20260422T070055
DTSTART:20251106T190000Z
DTEND:20251106T235000Z
LOCATION:
SUMMARY:Grünheider SV II vs. BSG Pneumant Fürstenwalde IX
DESCRIPTION: Grünheider SV II vs. BSG Pneumant Fürstenwalde IX
END:VEVENT
END:VCALENDAR