BEGIN:VCALENDAR
VERSION:2.0
PRODID:-//eventon.com NONSGML v1.0//EN
BEGIN:VEVENT
UID:69e88c044a0c2
DTSTAMP:20260422T085116
DTSTART:20251013T190000Z
DTEND:20251013T235000Z
LOCATION:Sporthalle (1. KSV 64/90 Fürstenwalde) Trebuser Str. 47\,  15517 Fürstenwalde/Spree
SUMMARY:KSV Fürstenwalde II vs. BSG Pneumant Fürstenwalde IX
DESCRIPTION: KSV Fürstenwalde II vs. BSG Pneumant Fürstenwalde IX
END:VEVENT
END:VCALENDAR