BEGIN:VCALENDAR
VERSION:2.0
PRODID:-//eventon.com NONSGML v1.0//EN
BEGIN:VEVENT
UID:69e8a30eecabf
DTSTAMP:20260422T102934
DTSTART:20250930T191500Z
DTEND:20250930T235000Z
LOCATION:Sporthalle SVM Gosen Berliner Straße 35-36\,  15537 Gosen-Neu Zittau
SUMMARY:SVM Gosen I vs. BSG Pneumant Fürstenwalde IX
DESCRIPTION: SVM Gosen I vs. BSG Pneumant Fürstenwalde IX
END:VEVENT
END:VCALENDAR