BEGIN:VCALENDAR
VERSION:2.0
PRODID:-//eventon.com NONSGML v1.0//EN
BEGIN:VEVENT
UID:69e8d09c98cfe
DTSTAMP:20260422T134356
DTSTART:20251211T193000Z
DTEND:20251211T235000Z
LOCATION:Sporthalle der BSG Pneumant Siegfried-Hirschmann Straße 5\,  15517 Fürstenwalde
SUMMARY:BSG Pneumant Fürstenwalde VIII vs. TTV Hartmannsdorf II
DESCRIPTION: BSG Pneumant Fürstenwalde VIII vs. TTV Hartmannsdorf II
END:VEVENT
END:VCALENDAR