BEGIN:VCALENDAR
VERSION:2.0
PRODID:-//eventon.com NONSGML v1.0//EN
BEGIN:VEVENT
UID:69e8edaee16d9
DTSTAMP:20260422T154758
DTSTART:20251125T190000Z
DTEND:20251125T235000Z
LOCATION:Tischtennishalle im Rudolf-Harbig-Stadion Fürstenwalde Karl-Liebknecht-Straße 20\,  15517 Fürstenwalde
SUMMARY:SG Gaselan Fürstenwalde II vs. BSG Pneumant Fürstenwalde VIII
DESCRIPTION: SG Gaselan Fürstenwalde II vs. BSG Pneumant Fürstenwalde VIII
END:VEVENT
END:VCALENDAR