BEGIN:VCALENDAR
VERSION:2.0
PRODID:-//eventon.com NONSGML v1.0//EN
BEGIN:VEVENT
UID:69e90331c4dae
DTSTAMP:20260422T171945
DTSTART:20251121T191500Z
DTEND:20251121T235000Z
LOCATION:Stadthalle Erkner Julius-Rütgers-Straße 4\,  15537 Erkner
SUMMARY:SG Chemie Erkner IV vs. BSG Pneumant Fürstenwalde VIII
DESCRIPTION: SG Chemie Erkner IV vs. BSG Pneumant Fürstenwalde VIII
END:VEVENT
END:VCALENDAR