BEGIN:VCALENDAR
VERSION:2.0
PRODID:-//eventon.com NONSGML v1.0//EN
BEGIN:VEVENT
UID:69e91779735ef
DTSTAMP:20260422T184617
DTSTART:20251113T193000Z
DTEND:20251113T235000Z
LOCATION:Sporthalle der BSG Pneumant Siegfried-Hirschmann Straße 5\,  15517 Fürstenwalde
SUMMARY:BSG Pneumant Fürstenwalde VIII vs. SG Hangelsberg 47 II
DESCRIPTION: BSG Pneumant Fürstenwalde VIII vs. SG Hangelsberg 47 II
END:VEVENT
END:VCALENDAR