BEGIN:VCALENDAR
VERSION:2.0
PRODID:-//eventon.com NONSGML v1.0//EN
BEGIN:VEVENT
UID:69ed48304b0fa
DTSTAMP:20260425T230312
DTSTART:20250201T140000Z
DTEND:20250201T235000Z
LOCATION:Sporthalle auf dem Flugplatz Werneuchen - Hangar 3 Johann-de-Warnow-Str. 1\,  16356 Werneuchen 
SUMMARY:SV Rot-Weiß Werneuchen II vs. BSG Pneumant Fürstenwalde II
DESCRIPTION: SV Rot-Weiß Werneuchen II vs. BSG Pneumant Fürstenwalde II
END:VEVENT
END:VCALENDAR