BEGIN:VCALENDAR
VERSION:2.0
PRODID:-//eventon.com NONSGML v1.0//EN
BEGIN:VEVENT
UID:69ed6129cc846
DTSTAMP:20260426T004945
DTSTART:20250112T100000Z
DTEND:20250112T235000Z
LOCATION:Sporthalle "OSZ Ulrich von Hutten" (Frankfurt/O.) Kleine Müllroser Straße\,  15232 Frankfurt (Oder) 
SUMMARY:TTC Frankfurt (Oder) II vs. BSG Pneumant Fürstenwalde II
DESCRIPTION: TTC Frankfurt (Oder) II vs. BSG Pneumant Fürstenwalde II
END:VEVENT
END:VCALENDAR