BEGIN:VCALENDAR
VERSION:2.0
PRODID:-//eventon.com NONSGML v1.0//EN
BEGIN:VEVENT
UID:69ed783303bba
DTSTAMP:20260426T022803
DTSTART:20250426T100000Z
DTEND:20250426T235000Z
LOCATION:
SUMMARY:BSG Pneumant Fürstenwalde vs. TSV Stahnsdorf II
DESCRIPTION: BSG Pneumant Fürstenwalde vs. TSV Stahnsdorf II
END:VEVENT
END:VCALENDAR