BEGIN:VCALENDAR
VERSION:2.0
PRODID:-//eventon.com NONSGML v1.0//EN
BEGIN:VEVENT
UID:69e554a6e439f
DTSTAMP:20260419T221814
DTSTART:20231011T000000Z
DTEND:20231011T235900Z
LOCATION:
SUMMARY:Philipp Völker (Geburtstag)
DESCRIPTION: 2015
END:VEVENT
END:VCALENDAR